BEGIN:VCALENDAR
VERSION:2.0
PRODID:-//Mishka Social Services - ECPv6.15.20//NONSGML v1.0//EN
CALSCALE:GREGORIAN
METHOD:PUBLISH
X-ORIGINAL-URL:https://mishkasocialservices.org
X-WR-CALDESC:Events for Mishka Social Services
REFRESH-INTERVAL;VALUE=DURATION:PT1H
X-Robots-Tag:noindex
X-PUBLISHED-TTL:PT1H
BEGIN:VTIMEZONE
TZID:America/New_York
BEGIN:DAYLIGHT
TZOFFSETFROM:-0500
TZOFFSETTO:-0400
TZNAME:EDT
DTSTART:20240310T070000
END:DAYLIGHT
BEGIN:STANDARD
TZOFFSETFROM:-0400
TZOFFSETTO:-0500
TZNAME:EST
DTSTART:20241103T060000
END:STANDARD
BEGIN:DAYLIGHT
TZOFFSETFROM:-0500
TZOFFSETTO:-0400
TZNAME:EDT
DTSTART:20250309T070000
END:DAYLIGHT
BEGIN:STANDARD
TZOFFSETFROM:-0400
TZOFFSETTO:-0500
TZNAME:EST
DTSTART:20251102T060000
END:STANDARD
BEGIN:DAYLIGHT
TZOFFSETFROM:-0500
TZOFFSETTO:-0400
TZNAME:EDT
DTSTART:20260308T070000
END:DAYLIGHT
BEGIN:STANDARD
TZOFFSETFROM:-0400
TZOFFSETTO:-0500
TZNAME:EST
DTSTART:20261101T060000
END:STANDARD
BEGIN:DAYLIGHT
TZOFFSETFROM:-0500
TZOFFSETTO:-0400
TZNAME:EDT
DTSTART:20270314T070000
END:DAYLIGHT
BEGIN:STANDARD
TZOFFSETFROM:-0400
TZOFFSETTO:-0500
TZNAME:EST
DTSTART:20271107T060000
END:STANDARD
END:VTIMEZONE
BEGIN:VEVENT
DTSTART;TZID=America/New_York:20260313T173000
DTEND;TZID=America/New_York:20260313T210000
DTSTAMP:20260423T113613
CREATED:20260124T202043Z
LAST-MODIFIED:20260124T202252Z
UID:7354-1773423000-1773435600@mishkasocialservices.org
SUMMARY:Fundraising Iftar
DESCRIPTION:Click this link and join us for a meaningful evening of connection and community as we gather to break our fast and reflect on gratitude this Ramadan. Our Fundraising Iftar Dinner will feature a keynote address centered on thankfulness\, resilience\, and the blessings of giving back. Together\, we’ll enjoy a delicious meal\, share heartfelt moments\, and raise funds to support vital programs that serve and uplift members of our community. Your presence is part of what makes this night special\, and your support helps transform gratitude into real impact. Don’t miss this opportunity to give back while nourishing your spirit this Ramadan.
URL:https://mishkasocialservices.org/event/fundraising-iftar/
LOCATION:Carmen’s Banquet Centre\, 1520 Stone Church Road East\, Hamilton\, Ontario\, L8W 3P9\, Canada
ATTACH;FMTTYPE=image/jpeg:https://mishkasocialservices.org/wp-content/uploads/2026/01/2026-iftar-fundraiser.jpg
END:VEVENT
BEGIN:VEVENT
DTSTART;TZID=America/New_York:20251118T173000
DTEND;TZID=America/New_York:20251118T220000
DTSTAMP:20260423T113613
CREATED:20250816T163629Z
LAST-MODIFIED:20250816T163629Z
UID:6783-1763487000-1763503200@mishkasocialservices.org
SUMMARY:10 Year Anniversary of Mishka Social Services
DESCRIPTION:Click Here to Register \nIt’s been 10 impactful years of Mishka Social Services. Celebrate with us through an evening of music\, delicious food\, a reflective art gallery\, raffles\, and the people who made it all possible.
URL:https://mishkasocialservices.org/event/10-year-anniversary-of-mishka-social-services/
LOCATION:Courtyard Hamilton – The Marriott\, 1224 Upper James St.\, Hamilton\, Ontario\, L9C 3B1\, Canada
ATTACH;FMTTYPE=image/jpeg:https://mishkasocialservices.org/wp-content/uploads/2025/08/10yearanniversary.jpg
END:VEVENT
BEGIN:VEVENT
DTSTART;TZID=America/New_York:20250824T020000
DTEND;TZID=America/New_York:20250824T170000
DTSTAMP:20260423T113613
CREATED:20250816T162332Z
LAST-MODIFIED:20250816T162400Z
UID:6778-1756000800-1756054800@mishkasocialservices.org
SUMMARY:Back To School - Empowering Families of Children With Special Needs
DESCRIPTION:Click Here to Register \nJoin MUHSEN and Mishka Social Services for a supportive session for parents of children with special needs. \nLearn how to advocate for your child at school\, access key resources\, and connect with other families.
URL:https://mishkasocialservices.org/event/back-to-school-empowering-families-of-children-with-special-needs/
LOCATION:Muslim Association of Hamilton\, 1545 Stone Church Road\, Hamilton\, Ontario\, L8W 3P8\, Canada
ATTACH;FMTTYPE=image/jpeg:https://mishkasocialservices.org/wp-content/uploads/2025/08/whatsapp-image-2025-08-16-at-12-13-07-pm.jpeg
END:VEVENT
BEGIN:VEVENT
DTSTART;TZID=America/New_York:20250614T100000
DTEND;TZID=America/New_York:20250615T150000
DTSTAMP:20260423T113613
CREATED:20250503T183917Z
LAST-MODIFIED:20250503T183917Z
UID:6338-1749895200-1749999600@mishkasocialservices.org
SUMMARY:Building Capacity and Resilience
DESCRIPTION:Taking place on June 14 and June 15 from 10:00 AM – 3:00 PM \nJoin us for a powerful 2-day workshop\, designed for youth to explore the impacts of Islamophobia and discrimination on mental health \nWhat will you learn? \n\nThe impact of discrimination\nand Islamophobia on mental\nhealth.\nPractical coping strategies\nfor dealing with stress\,\nanxiety\, and trauma.\nHow to build self-confidence\nand emotional resilience.
URL:https://mishkasocialservices.org/event/building-capacity-and-resilience/
LOCATION:McMaster University Office of Community Engagement\, 1 James Street North (Second Floor)\, Hamilton\, Ontario\, L8P 1A1\, Canada
ATTACH;FMTTYPE=image/webp:https://mishkasocialservices.org/wp-content/uploads/2025/05/mental-health-and-islamophobia-workshop-flyer-essra-v3-page-00011-68166105a6ab1.webp
END:VEVENT
BEGIN:VEVENT
DTSTART;TZID=America/New_York:20250613T170000
DTEND;TZID=America/New_York:20250613T210000
DTSTAMP:20260423T113613
CREATED:20250129T233859Z
LAST-MODIFIED:20250510T170057Z
UID:5108-1749834000-1749848400@mishkasocialservices.org
SUMMARY:Theatre Play
DESCRIPTION:Click HERE to RSVP and get your tickets! \nJoin us for a powerful evening of theatre in commemoration of the June 6th Islamophobia attack on our London Family\, honouring lives impacted by Islamophobia and highlighting the resilience of young voices in our community. This performance brings youth together to share stories of strength\, understanding\, and the urgent need for unity against discrimination. Let’s stand together to remember\, reflect\, and foster a more inclusive\, compassionate community. Reserve your ticket today to be part of this meaningful event.
URL:https://mishkasocialservices.org/event/theatre-play/
LOCATION:Zoetic Theatre\, 526 Concession St.\, Hamilton\, Ontario\, L8V 1A6\, Canada
ATTACH;FMTTYPE=image/jpeg:https://mishkasocialservices.org/wp-content/uploads/2025/01/stand-against-islamophobia-through-theatre.jpg
END:VEVENT
BEGIN:VEVENT
DTSTART;TZID=America/New_York:20250410T100000
DTEND;TZID=America/New_York:20250410T150000
DTSTAMP:20260423T113613
CREATED:20250129T233938Z
LAST-MODIFIED:20250329T144924Z
UID:5111-1744279200-1744297200@mishkasocialservices.org
SUMMARY:Finding Abilities Within Disabilities
DESCRIPTION:Click HERE to register now! \nAre you caring for someone with special needs? Register now and join us in this conference to meet the community\, share your experiences\, and get support and other resources. At Mishka Social Services\, we believe in empowering individuals with special needs by recognizing their strengths\, talents\, and potential.
URL:https://mishkasocialservices.org/event/finding-abilities-within-disabilities/
LOCATION:McMaster University Office of Community Engagement\, 1 James Street North (Second Floor)\, Hamilton\, Ontario\, L8P 1A1\, Canada
ATTACH;FMTTYPE=image/jpeg:https://mishkasocialservices.org/wp-content/uploads/2025/01/english-finding-ability-within-disability-conference-pages-to-jpg-0001-e1739891177770.jpg
END:VEVENT
BEGIN:VEVENT
DTSTART;TZID=America/New_York:20250314T120000
DTEND;TZID=America/New_York:20250314T183000
DTSTAMP:20260423T113613
CREATED:20250129T224551Z
LAST-MODIFIED:20250218T194606Z
UID:5065-1741953600-1741977000@mishkasocialservices.org
SUMMARY:Iftar Fundraiser
DESCRIPTION:Get your tickets HERE! \nJoin us for our Iftar Fundraising Dinner on March 14th\, reflecting on resilience within our communities. All proceeds will be donated to support newcomers\, immigrants\, and refugees within the Hamilton community. Click the link to get your early bird tickets now!
URL:https://mishkasocialservices.org/event/iftar-fundraiser/
LOCATION:Carmen’s Banquet Centre\, 1520 Stone Church Road East\, Hamilton\, Ontario\, L8W 3P9\, Canada
ATTACH;FMTTYPE=image/jpeg:https://mishkasocialservices.org/wp-content/uploads/2025/01/iftar-fundraiser-e1738437379394.jpg
END:VEVENT
END:VCALENDAR